BEGIN:VCALENDAR
VERSION:2.0
PRODID:-//Black People In Vienna - ECPv6.15.20//NONSGML v1.0//EN
CALSCALE:GREGORIAN
METHOD:PUBLISH
X-WR-CALNAME:Black People In Vienna
X-ORIGINAL-URL:https://blackpeopleinvienna.com
X-WR-CALDESC:Events for Black People In Vienna
REFRESH-INTERVAL;VALUE=DURATION:PT1H
X-Robots-Tag:noindex
X-PUBLISHED-TTL:PT1H
BEGIN:VTIMEZONE
TZID:Europe/Vienna
BEGIN:DAYLIGHT
TZOFFSETFROM:+0100
TZOFFSETTO:+0200
TZNAME:CEST
DTSTART:20170326T010000
END:DAYLIGHT
BEGIN:STANDARD
TZOFFSETFROM:+0200
TZOFFSETTO:+0100
TZNAME:CET
DTSTART:20171029T010000
END:STANDARD
BEGIN:DAYLIGHT
TZOFFSETFROM:+0100
TZOFFSETTO:+0200
TZNAME:CEST
DTSTART:20180325T010000
END:DAYLIGHT
BEGIN:STANDARD
TZOFFSETFROM:+0200
TZOFFSETTO:+0100
TZNAME:CET
DTSTART:20181028T010000
END:STANDARD
BEGIN:DAYLIGHT
TZOFFSETFROM:+0100
TZOFFSETTO:+0200
TZNAME:CEST
DTSTART:20190331T010000
END:DAYLIGHT
BEGIN:STANDARD
TZOFFSETFROM:+0200
TZOFFSETTO:+0100
TZNAME:CET
DTSTART:20191027T010000
END:STANDARD
END:VTIMEZONE
BEGIN:VEVENT
DTSTART;TZID=Europe/Vienna:20180602T150000
DTEND;TZID=Europe/Vienna:20180602T190000
DTSTAMP:20260426T005409
CREATED:20180528T161428Z
LAST-MODIFIED:20180528T161428Z
UID:420-1527951600-1527966000@blackpeopleinvienna.com
SUMMARY:Sister's Brunch
DESCRIPTION:This month we will be having the brunch at Afripoint. \nJulianne will be there with her delicious food and the coffee machine will be on and ready for cappuccinos and such. \nBe ready to relax and enjoy food and company with wonderful black women.
URL:https://blackpeopleinvienna.com/event/sisters-brunch
LOCATION:Afripoint\, Hofmühlgasse 2\, Vienna\, Vienna\, 1060\, Austria
CATEGORIES:sister's brunch
ATTACH;FMTTYPE=image/jpeg:https://blackpeopleinvienna.com/wp-content/uploads/2018/01/GettyImages-482150715.jpg
ORGANIZER;CN="Denise":MAILTO:rsvp@blackpeopleinvienna.com
END:VEVENT
END:VCALENDAR